BEGIN:VCALENDAR
VERSION:2.0
PRODID:-//Zwembad De Spetter - ECPv6.15.14//NONSGML v1.0//EN
CALSCALE:GREGORIAN
METHOD:PUBLISH
X-ORIGINAL-URL:https://zwembaddespetter.nl
X-WR-CALDESC:Evenementen voor Zwembad De Spetter
REFRESH-INTERVAL;VALUE=DURATION:PT1H
X-Robots-Tag:noindex
X-PUBLISHED-TTL:PT1H
BEGIN:VTIMEZONE
TZID:Europe/Amsterdam
BEGIN:DAYLIGHT
TZOFFSETFROM:+0100
TZOFFSETTO:+0200
TZNAME:CEST
DTSTART:20250330T010000
END:DAYLIGHT
BEGIN:STANDARD
TZOFFSETFROM:+0200
TZOFFSETTO:+0100
TZNAME:CET
DTSTART:20251026T010000
END:STANDARD
BEGIN:DAYLIGHT
TZOFFSETFROM:+0100
TZOFFSETTO:+0200
TZNAME:CEST
DTSTART:20260329T010000
END:DAYLIGHT
BEGIN:STANDARD
TZOFFSETFROM:+0200
TZOFFSETTO:+0100
TZNAME:CET
DTSTART:20261025T010000
END:STANDARD
BEGIN:DAYLIGHT
TZOFFSETFROM:+0100
TZOFFSETTO:+0200
TZNAME:CEST
DTSTART:20270328T010000
END:DAYLIGHT
BEGIN:STANDARD
TZOFFSETFROM:+0200
TZOFFSETTO:+0100
TZNAME:CET
DTSTART:20271031T010000
END:STANDARD
END:VTIMEZONE
BEGIN:VEVENT
DTSTART;TZID=Europe/Amsterdam:20260418T110000
DTEND;TZID=Europe/Amsterdam:20260418T120000
DTSTAMP:20260419T210609
CREATED:20250313T120330Z
LAST-MODIFIED:20260411T154529Z
UID:4939-1776510000-1776513600@zwembaddespetter.nl
SUMMARY:Uitleg Kiosk kassa en InzetRooster
DESCRIPTION:Instructies voor beginners en mensen die graag even hun kunnen willen opfrissen! \nOp 11 en 18  April om 11 uur geeft Tineke uitleg over het gebruik van de kassa.\nTevens is er iemand aanwezig voor vragen over werking en inlog in ons nieuwe Roostersysteem InzetRooster\nén kun je de QR-code scanner van onze nieuwe abonnementen vasthouden.
URL:https://zwembaddespetter.nl/agenda/uitleg-kiosk-kassa-en-inzetrooster/
CATEGORIES:Activiteiten
ATTACH;FMTTYPE=image/png:https://zwembaddespetter.nl/wp-content/uploads/Kiosk.Scanner.png
END:VEVENT
BEGIN:VEVENT
DTSTART;TZID=Europe/Amsterdam:20260418T103000
DTEND;TZID=Europe/Amsterdam:20260418T120000
DTSTAMP:20260419T210609
CREATED:20260312T163344Z
LAST-MODIFIED:20260411T154503Z
UID:5876-1776508200-1776513600@zwembaddespetter.nl
SUMMARY:Ondersteuning bij abonnementen en QR-code
DESCRIPTION:Hulp bij abonnementenOp zaterdag 11 en 18 april tussen 10:30 en 12 uur zitten de leden van het abonnementenbeheer klaar om al je vragen te beantwoorden en ondersteuning te bieden waar nodig. \nLoop gerust even binnen! \nVergeet niet je mobiel of laptop mee te nemen zodat je\, als nodig onder begeleiding\, een account kunt maken en een bestelling kunt plaatsen.
URL:https://zwembaddespetter.nl/agenda/ondersteuning-aanmaken-account-en-qr-code/
CATEGORIES:Activiteiten
ATTACH;FMTTYPE=image/png:https://zwembaddespetter.nl/wp-content/uploads/Kiosk.Scanner.png
END:VEVENT
END:VCALENDAR